BEGIN:VCALENDAR
VERSION:2.0
PRODID:Events Booking
BEGIN:VEVENT
UID:69e88b5ed41d3
SUMMARY:CLARIN Conference
DESCRIPTION:The CLARIN Annual Conference is the main annual event for those
  working on the construction and operation of CLARIN across Europe\, as we
 ll as for representatives of the communities of use in the humanities and 
 social sciences.
 Learn more:&nbsp\;CLARIN Annual Conference 2024 | CLARI
 N ERIC
LOCATION:Catalonia\, Spain
DTSTART:20241015T000000Z
DTEND:20241017T000000Z
DTSTAMP:20240416T232556Z
ORGANIZER;CN=OSTrails Project:MAILTO:elli.p@athenarc.gr
GEO:41.75787;2.031182
X-APPLE-STRUCTURED-LOCATION;VALUE=URI;X-ADDRESS=Catalonia\, Spain;X-APPLE-R
 ADIUS=72;X-TITLE=Barcelona\, Spain:41.75787;2.031182
END:VEVENT
END:VCALENDAR