BEGIN:VCALENDAR
VERSION:2.0
PRODID:Events Booking
BEGIN:VEVENT
UID:69e5d40152686
SUMMARY:20th International Digital Curation Conference
DESCRIPTION:The International Digital Curation Conference (IDCC) is an esta
 blished annual event with a unique place in the digital curation community
 \, reaching out to individuals\, organisations and institutions across all
  disciplines and domains involved in curating data and providing an opport
 unity to get together with like-minded data practitioners to discuss polic
 y and practice.
 For more Information visit&nbsp\;https://dcc.ac.uk/event
 s/idcc26
 &nbsp\;
LOCATION:Zagreb\, 10101\, Croatia
DTSTART:20260216T000000Z
DTEND:20260218T000000Z
DTSTAMP:20251126T120723Z
ORGANIZER;CN=OSTrails Project:MAILTO:elli.p@athenarc.gr
GEO:45.81467;15.978795
X-APPLE-STRUCTURED-LOCATION;VALUE=URI;X-ADDRESS=Zagreb\, 10101\, Croatia;X-
 APPLE-RADIUS=72;X-TITLE=Zagreb\, Croatia:45.81467;15.978795
END:VEVENT
END:VCALENDAR