BEGIN:VCALENDAR
VERSION:2.0
PRODID:Events Booking
BEGIN:VEVENT
UID:69e8a025e96bf
SUMMARY:5th International Open Search Symposium 
DESCRIPTION:#OSSYM2023
 The 5th International Open Search Symposium #ossym
 2023 will take place at CERN\, Geneva\, Switzerland\, and online from 4 to
  6 October 2023.&nbsp\;
DTSTART:20231004T000000Z
DTEND:20231006T000000Z
DTSTAMP:20230703T101634Z
ORGANIZER;CN=OSTrails Project:MAILTO:elli.p@athenarc.gr
END:VEVENT
END:VCALENDAR