BEGIN:VCALENDAR
VERSION:2.0
PRODID:Events Booking
BEGIN:VEVENT
UID:69e889f92043a
SUMMARY:2nd Austrian Library Congress 2025
DESCRIPTION:Under the motto “Democratic – Diverse – Sustainable” Au
 strias two main Library associations are inviting you to join the 2nd Aust
 rian Library Congress!
 Daniel Spichtinger will present OSTrails and our 
 activities to an audience of library professionals from Austrias public an
 d research libraries on Friday\, March 28.
LOCATION:Austria
DTSTART:20250325T000000Z
DTEND:20250328T000000Z
DTSTAMP:20241129T105739Z
ORGANIZER;CN=OSTrails Project:MAILTO:elli.p@athenarc.gr
GEO:48.208354;16.372504
X-APPLE-STRUCTURED-LOCATION;VALUE=URI;X-ADDRESS=Austria;X-APPLE-RADIUS=72;X
 -TITLE=Vienna\, Austria:48.208354;16.372504
END:VEVENT
END:VCALENDAR