BEGIN:VCALENDAR
VERSION:2.0
PRODID:Events Booking
BEGIN:VEVENT
UID:69e8a01a0c32f
SUMMARY:DORA 10th Anniversary Events
DESCRIPTION:DORA AT 10: LOOKING BACK AT THE HISTORY AND FUTURE OF RESEARCH 
 ASSESSMENT
 The&nbsp\;San Francisco Declaration on Research Assessment (D
 ORA)&nbsp\;will celebrate its 10th birthday in May 2023. To mark the occas
 ion\, a series of events are organised across the globe that will look bac
 k at what the declaration has achieved\, and forward to how to collectivel
 y address the remaining challenges in reforming research assessment.&nbsp\
 ;
 &nbsp\;
DTSTART:20230515T000000Z
DTEND:20230519T000000Z
DTSTAMP:20230419T142410Z
ORGANIZER;CN=OSTrails Project:MAILTO:elli.p@athenarc.gr
END:VEVENT
END:VCALENDAR