BEGIN:VCALENDAR
VERSION:2.0
PRODID:Events Booking
BEGIN:VEVENT
UID:69e8892017236
SUMMARY:EGI2025
DESCRIPTION:At the annual EGI conference\, international scientific communi
 ties\, computing and service providers\, European projects\, security expe
 rts\, community managers\, and policymakers gather to advance research and
  innovation in data-intensive processing and analytics in a safe and open 
 environment with room for in-depth discussion\, new insights\, networking\
 , and a lot of fun!
LOCATION:Palacio de la Magdalena\, Calle de la Familia Real\, Santander\, K
 antabrien\, 39005\, Spanien
DTSTART:20250602T000000Z
DTEND:20250606T000000Z
DTSTAMP:20250415T074732Z
ORGANIZER;CN=OSTrails Project:MAILTO:elli.p@athenarc.gr
GEO:43.469148;-3.766293
X-APPLE-STRUCTURED-LOCATION;VALUE=URI;X-ADDRESS=Palacio de la Magdalena\, C
 alle de la Familia Real\, Santander\, Kantabrien\, 39005\, Spanien;X-APPLE
 -RADIUS=72;X-TITLE=Santander\, Spain:43.469148;-3.766293
END:VEVENT
END:VCALENDAR