BEGIN:VCALENDAR
VERSION:2.0
PRODID:Events Booking
BEGIN:VEVENT
UID:69e88b7d3f9bf
SUMMARY:EnhanceR Symposium 2025
DESCRIPTION:EnhanceR Symposium is a full-day event on Sep 4th\, 2025. The e
 vent will hosted at the HEG-FR in Fribourg.
LOCATION:2a\, Place de l'Hôtel-de-Ville / Rathausplatz\, Bourg\, Pérolles
 \, Fribourg - Freiburg\, Sarine District\, Fribourg\, 1700\, Switzerland
DTSTART:20250904T000000Z
DTEND:20250904T000000Z
DTSTAMP:20250520T090636Z
ORGANIZER;CN=OSTrails Project:MAILTO:elli.p@athenarc.gr
GEO:46.805523;7.16094
X-APPLE-STRUCTURED-LOCATION;VALUE=URI;X-ADDRESS=2a\, Place de l'Hôtel-de-V
 ille / Rathausplatz\, Bourg\, Pérolles\, Fribourg - Freiburg\, Sarine Dis
 trict\, Fribourg\, 1700\, Switzerland;X-APPLE-RADIUS=72;X-TITLE=Fribourg\,
  Switzerland:46.805523;7.16094
END:VEVENT
END:VCALENDAR