BEGIN:VCALENDAR
VERSION:2.0
PRODID:Events Booking
BEGIN:VEVENT
UID:69e89f615365e
SUMMARY:EOSC and Data Spaces
DESCRIPTION:INTRODUCTORY WEBINAR
 The webinar is jointly organised by the 
 EOSC Association (EOSC-A) and the Data Spaces Support Center (DSSC). It wi
 ll take place on&nbsp\;Monday 26&nbsp\;June\, 11:00 - 12:00 CEST\,&nbsp\;a
 nd will offer an introduction to EOSC and the Data Spaces.
DTSTART:20230626T110000Z
DTEND:20230626T120000Z
DTSTAMP:20230619T114610Z
ORGANIZER;CN=OSTrails Project:MAILTO:elli.p@athenarc.gr
END:VEVENT
END:VCALENDAR