BEGIN:VCALENDAR
VERSION:2.0
PRODID:Events Booking
BEGIN:VEVENT
UID:69e5d366dcf71
SUMMARY:EOSC Winter School 2026: Supporting the EOSC Federation
DESCRIPTION:The third edition of the EOSC Winter School\, set to take place
  in Nice\, France on 27-29 January 2026 will build on the momentum created
  by the&nbsp\;EOSC Symposium 2025&nbsp\;and the work of the&nbsp\;EOSC Fed
 eration Build-up Group\, advancing further convergence on the EOSC Federat
 ion among all stakeholders. The event is organised by EOSC-A with the supp
 ort of the&nbsp\;EOSC Gravity&nbsp\;project.
 The EOSC Winter School 2026
  will deepen collaboration across the wider EOSC community\, fostering str
 onger alignment with the EOSC Federation Build-up Group. The event will be
  co-located with a closed meeting of the EOSC Federation Build-up Group on
  26-27 January 2026. Outcomes from this meeting will inform the discussion
 s at the Winter School.
 The EOSC Federation has now become the central r
 eference point for the work of the INFRAEOSC projects and the wider EOSC c
 ommunity. The Winter School will offer extensive opportunities for partici
 pants to engage with the EOSC Nodes of the first wave to explore collabora
 tion opportunities\, identify partners for future funding proposals\, such
  as the&nbsp\;preparatory grants and inter-project grants&nbsp\;under EOSC
  Gravity\, and gain insights into future enrolment calls.
 The Winter Sch
 ool will foster convergence through three complementary approaches:
 
 S
 trengthening exchange between the EOSC Nodes and the EOSC community: Creat
 ing space for dialogue and mutual learning to support future EOSC Node app
 lications and onboarding of resources to the EOSC Federation\,
 Providing
  opportunities to network and forge alliances: Enabling participants to id
 entify partners and shape joint initiatives and funding proposals\,
 Enha
 ncing collaboration: Building on the Winter School’s established format\
 , the event will foster in-depth discussions and hands-on collaboration ac
 ross the EOSC community.
 
 The EOSC Winter School 2026 will feature two
  interlinking parts:
 
 EOSC Stakeholder Brokerage Event (27 January): A
  matchmaking session aiming to connect resource providers with the EOSC No
 des
 Thematic tracks (28-29 January): Engaging sessions focused on:
 
 
 Federating capabilities and interoperability
 Resources
 Competences and
  training
 
 
 
 The programme includes social events and networking o
 pportunities at the end of each day.
 For more Information visit&nbsp\;ht
 tps://eosc.eu/eosc-gravity/eosc-winter-school-2026
LOCATION:Nice\, 06000 Provence-Alpes-Côte d'Azur\, France
DTSTART:20260127T123000Z
DTEND:20260129T130000Z
DTSTAMP:20260126T065612Z
ORGANIZER;CN=OSTrails Project:MAILTO:elli.p@athenarc.gr
GEO:43.704897;7.267937
X-APPLE-STRUCTURED-LOCATION;VALUE=URI;X-ADDRESS=Nice\, 06000 Provence-Alpes
 -Côte d'Azur\, France;X-APPLE-RADIUS=72;X-TITLE=Nice\, France:43.704897;7
 .267937
END:VEVENT
END:VCALENDAR