BEGIN:VCALENDAR
VERSION:2.0
PRODID:Events Booking
BEGIN:VEVENT
UID:69e89fe66ad2c
SUMMARY:<a href=\"https://cris2024.eurocris.org/\"><?php echo $event->title
 \; ?></a>
DESCRIPTION:16th International Conference on Current Research Information S
 ystems (CRIS2024)
DTSTART:20201113T000000Z
DTEND:20221114T000000Z
DTSTAMP:20240418T125601Z
ORGANIZER;CN=OSTrails Project:MAILTO:elli.p@athenarc.gr
END:VEVENT
END:VCALENDAR