BEGIN:VCALENDAR
VERSION:2.0
PRODID:Events Booking
BEGIN:VEVENT
UID:69e5d3b8db806
SUMMARY:EVERSE Community Engagement Event
DESCRIPTION:We are excited to invite you to the EVERSE Community Engagement
  Event on&nbsp\;Thursday\, 5 February 2026.
 In this&nbsp\;full-day event
 \, we will share news and updates related to EVERSE as well as exchange id
 eas and best practices. Also\, there will be dedicated sessions to provide
  your opinions and have open discussions on issues that are important for 
 the research software community across different domains.
 We strongly en
 courage you to participate in-person to the event that will be&nbsp\;held 
 at CERN\, Switzerland. For those who can not attend in person\, remote par
 ticipation will also be possible.
 For more Information visit&nbsp\;EVERS
 E Community Engagement Event · EVERSE
LOCATION:Place de jeux du Parc des Franchises\, Avenue de Châtelaine\, Sai
 nt-Jean et Charmilles\, Genf\, 1203\, Schweiz
DTSTART:20260205T084500Z
DTEND:20260205T170000Z
DTSTAMP:20260126T092425Z
ORGANIZER;CN=OSTrails Project:MAILTO:elli.p@athenarc.gr
GEO:46.2112;6.116651
X-APPLE-STRUCTURED-LOCATION;VALUE=URI;X-ADDRESS=Place de jeux du Parc des F
 ranchises\, Avenue de Châtelaine\, Saint-Jean et Charmilles\, Genf\, 1203
 \, Schweiz;X-APPLE-RADIUS=72;X-TITLE=CERN\, Geneva\, Switzerland:46.2112;6
 .116651
END:VEVENT
END:VCALENDAR