BEGIN:VCALENDAR
VERSION:2.0
PRODID:Events Booking
BEGIN:VEVENT
UID:69e8a051b8e9b
SUMMARY:Future of Peer Review
DESCRIPTION:DIFFERENT APPROACHES TO IMPROVING PEER REVIEW
 Peer review rem
 ains the primary means by which we ensure the quality of research grants a
 nd outputs. However\, no system is perfect. Peer review could be improved\
 , and there are different&nbsp\;schools of thought&nbsp\;on how this could
  be achieved. This event – hosted jointly by UKRN and the Research on Re
 search Institute – will include a series of talks that outline approache
 s that\, in part\, reflect these different schools of thought.
DTSTART:20230518T140000Z
DTEND:20230518T160000Z
DTSTAMP:20230421T151841Z
ORGANIZER;CN=OSTrails Project:MAILTO:elli.p@athenarc.gr
END:VEVENT
END:VCALENDAR