BEGIN:VCALENDAR
VERSION:2.0
PRODID:Events Booking
BEGIN:VEVENT
UID:69e88c9f78fb2
SUMMARY:Horizon Europe Open Science requirements in practice
DESCRIPTION:
DTSTART:20250702T140000Z
DTEND:20250702T153000Z
DTSTAMP:20250606T060237Z
ORGANIZER;CN=OSTrails Project:MAILTO:elli.p@athenarc.gr
END:VEVENT
END:VCALENDAR