BEGIN:VCALENDAR
VERSION:2.0
PRODID:Events Booking
BEGIN:VEVENT
UID:69e5d2f52a224
SUMMARY:International Data Week 2025
DESCRIPTION:This years International Data Week will be held from 13 to 16 O
 ctober\, 2025 in Brisbane\, Australia!
 IDW takes place every two years a
 nd is the leading international conference on research data. It is jointly
  organised by the International Science Council’s Committee on Data (COD
 ATA) and World Data System (WDS)\, and the Research Data Alliance (RDA). I
 t combines the RDA Plenary Meeting\, the biannual meeting of this internat
 ional member organisation working to develop and support global infrastruc
 ture facilitating data sharing and reuse\, with SciDataCon\, the scientifi
 c conference addressing the frontiers of data in research organised by COD
 ATA and WDS. The Australian Research Data Commons is delighted to be hosti
 ng the conference for the first time in Australia.
DTSTART:20251013T000000Z
DTEND:20251016T000000Z
DTSTAMP:20250520T084741Z
ORGANIZER;CN=OSTrails Project:MAILTO:elli.p@athenarc.gr
END:VEVENT
END:VCALENDAR