BEGIN:VCALENDAR
VERSION:2.0
PRODID:Events Booking
BEGIN:VEVENT
UID:69e89fbd36ac8
SUMMARY:ISSI 2023
DESCRIPTION:19TH INTERNATIONAL CONFERENCE&nbsp\;ON SCIENTOMETRICS AND INFOM
 ETRICS
 The ISSI 2023 Conference welcomes scientists\, research managers\
 , authorities and information professionals to engage in an open and proac
 tive debate of the current status and advancements of informetric and scie
 ntometric theories and their deployment.&nbsp\;The ISSI 2023 conference wi
 ll be hosted by Indiana University in Bloomington\, IN\, USA and will take
  place from 2-5 July 2023. ON SCIENTOMETRICS AND INFOMETRICS
DTSTART:20230702T000000Z
DTEND:20230705T000000Z
DTSTAMP:20230530T163634Z
ORGANIZER;CN=OSTrails Project:MAILTO:elli.p@athenarc.gr
END:VEVENT
END:VCALENDAR