BEGIN:VCALENDAR
VERSION:2.0
PRODID:Events Booking
BEGIN:VEVENT
UID:69e88bfd77d11
SUMMARY:LDK 2025 – 5th Conference on Language\, Data and Knowledge
DESCRIPTION:LDK 2025 aims to bring together researchers from across differe
 nt disciplines concerned with the acquisition\, treatment\, curation and t
 he use of language data in the context of data science and knowledge-based
  applications. This edition builds upon the success of the inaugural event
  held in Galway\, Ireland in 2017\, the second LDK in Leipzig\, Germany in
  2019\, the third LDK in Zaragoza\, Spain in 2021\, and the fourth LDK in 
 Vienna\, Austria in 2023.
LOCATION:Piazza del Plebiscito\, Via Cesario Console\, San Ferdinando\, Mun
 icipalità 1\, Naples\, Campania\, 80132\, Italy
DTSTART:20250909T000000Z
DTEND:20250911T000000Z
DTSTAMP:20241129T112824Z
ORGANIZER;CN=OSTrails Project:MAILTO:elli.p@athenarc.gr
GEO:40.835803;14.248591
X-APPLE-STRUCTURED-LOCATION;VALUE=URI;X-ADDRESS=Piazza del Plebiscito\, Via
  Cesario Console\, San Ferdinando\, Municipalità 1\, Naples\, Campania\, 
 80132\, Italy;X-APPLE-RADIUS=72;X-TITLE=Naples\, Italy:40.835803;14.248591
END:VEVENT
END:VCALENDAR