BEGIN:VCALENDAR
VERSION:2.0
PRODID:Events Booking
BEGIN:VEVENT
UID:69e88ba20a241
SUMMARY:LIBER 2025
DESCRIPTION:LIBER’s Annual Conference is a key meeting point for research
  library professionals. The conference brings library directors and their 
 staff together for three days of networking and collaboration. Delegates m
 ainly come from Europe but people from around the world are welcome\, and 
 we regularly welcome guests from countries including Australia\, Canada an
 d the United States.
 OSTrails will participate in the poster session at 
 LIBER 2025 in Lausanne!
 &nbsp\;
LOCATION:Rue Centrale\, Lausanne\, 1003 Vaud\, Switzerland
DTSTART:20250702T000000Z
DTEND:20250704T000000Z
DTSTAMP:20241129T110645Z
ORGANIZER;CN=OSTrails Project:MAILTO:elli.p@athenarc.gr
GEO:46.5211;6.634453
X-APPLE-STRUCTURED-LOCATION;VALUE=URI;X-ADDRESS=Rue Centrale\, Lausanne\, 1
 003 Vaud\, Switzerland;X-APPLE-RADIUS=72;X-TITLE=Lausanne\, Switzerland:46
 .5211;6.634453
END:VEVENT
END:VCALENDAR