BEGIN:VCALENDAR
VERSION:2.0
PRODID:Events Booking
BEGIN:VEVENT
UID:69e88bf711692
SUMMARY:Open Repositories 2025
DESCRIPTION:The bi-annual Open Repositories conference will take place in C
 hicago from June 15 to 18 2025 under the motto Twenty Years of Progress\, 
 a Future of Possibilities.
 &nbsp\;
 &nbsp\;
LOCATION:South Wabash Avenue\, Printer's Row\, Loop\, Chicago\, Cook County
 \, Illinois\, 60604\, United States
DTSTART:20250615T000000Z
DTEND:20250618T000000Z
DTSTAMP:20250520T085536Z
ORGANIZER;CN=OSTrails Project:MAILTO:elli.p@athenarc.gr
GEO:41.876591;-87.626101
X-APPLE-STRUCTURED-LOCATION;VALUE=URI;X-ADDRESS=South Wabash Avenue\, Print
 er's Row\, Loop\, Chicago\, Cook County\, Illinois\, 60604\, United States
 ;X-APPLE-RADIUS=72;X-TITLE=Chicago\, IL\, USA:41.876591;-87.626101
END:VEVENT
END:VCALENDAR