BEGIN:VCALENDAR
VERSION:2.0
PRODID:Events Booking
BEGIN:VEVENT
UID:69e89fc5c75f1
SUMMARY:Open Science Conference
DESCRIPTION:OPEN SCIENCE CONFERENCE 2023
 The Open Science Conference is a
 n annual international conference dedicated to the Open Science movement. 
 In 2023\, the conference will celebrate its 10th anniversary. The conferen
 ce is a virtual event hosted by the Leibniz Strategy Forum on Open Science
  and organized under the lead of the ZBW – Leibniz Information Centre fo
 r Economics.
 &nbsp\;
DTSTART:20230627T000000Z
DTEND:20230629T000000Z
DTSTAMP:20230517T145446Z
ORGANIZER;CN=OSTrails Project:MAILTO:elli.p@athenarc.gr
END:VEVENT
END:VCALENDAR