BEGIN:VCALENDAR
VERSION:2.0
PRODID:Events Booking
BEGIN:VEVENT
UID:69e88c4ec365e
SUMMARY:Open Science Festival 2025
DESCRIPTION:For more information\, visit:&nbsp\;https://osfestival2025.univ
 ie.ac.at/en/
LOCATION:Austria
DTSTART:20250908T000000Z
DTEND:20250909T000000Z
DTSTAMP:20250903T091048Z
ORGANIZER;CN=OSTrails Project:MAILTO:elli.p@athenarc.gr
GEO:48.208354;16.372504
X-APPLE-STRUCTURED-LOCATION;VALUE=URI;X-ADDRESS=Austria;X-APPLE-RADIUS=72;X
 -TITLE=Vienna\, Austria:48.208354;16.372504
END:VEVENT
END:VCALENDAR