BEGIN:VCALENDAR
VERSION:2.0
PRODID:Events Booking
BEGIN:VEVENT
UID:69e5d2a09c534
SUMMARY:OSFAIR 2025
DESCRIPTION:OSTrails at OSFAIR 2025 – Join Us at CERN!
 This year’s OS
 FAIR will take place from 15 to 17 September 2025 at CERN in Geneva\, unde
 r the motto “Fusing Forces – Accelerating Open Science through Collabo
 ration.”
 OSTrails will be participating with both a presentation and a
  booth — a great opportunity to explore our work and key results.
 http
 s://www.opensciencefair.eu/
LOCATION:Place de jeux du Parc des Franchises\, Avenue de Châtelaine\, Sai
 nt-Jean et Charmilles\, Genf\, 1203\, Schweiz
DTSTART:20250915T000000Z
DTEND:20250917T000000Z
DTSTAMP:20241129T111843Z
ORGANIZER;CN=OSTrails Project:MAILTO:elli.p@athenarc.gr
GEO:46.2112;6.116651
X-APPLE-STRUCTURED-LOCATION;VALUE=URI;X-ADDRESS=Place de jeux du Parc des F
 ranchises\, Avenue de Châtelaine\, Saint-Jean et Charmilles\, Genf\, 1203
 \, Schweiz;X-APPLE-RADIUS=72;X-TITLE=CERN\, Geneva\, Switzerland:46.2112;6
 .116651
END:VEVENT
END:VCALENDAR