BEGIN:VCALENDAR
VERSION:2.0
PRODID:Events Booking
BEGIN:VEVENT
UID:69e89fb3d9c4e
SUMMARY:Open Science FAIR 2023
DESCRIPTION:CHARTING THE COURSE: REIMAGINING OPEN SCIENCE FOR NEXT GENERATI
 ONS
 OSFAIR 2023 is organised as an emblematic initiative of&nbsp\;OpenAI
 RE\,&nbsp\;a not-for-profit organisation to ensure a permanent open schola
 rly communication infrastructure to support European researc.&nbsp\;This y
 ear the event will be co-organized with&nbsp\;FECYT\,&nbsp\;from the Spani
 sh&nbsp\;Ministry of Science and Innovation\, key European projects and gl
 obal initiatives.
DTSTART:20230925T000000Z
DTEND:20230927T000000Z
DTSTAMP:20230321T082454Z
ORGANIZER;CN=OSTrails Project:MAILTO:elli.p@athenarc.gr
END:VEVENT
END:VCALENDAR