BEGIN:VCALENDAR
VERSION:2.0
PRODID:Events Booking
BEGIN:VEVENT
UID:69e88b4a727a2
SUMMARY:ASFA-EURASLIC-GREYNET Joint Conference in Pisa
DESCRIPTION:
 The planning committee of the joint PISA 2025 conference is 
 excited to invite you to join us in Pisa\, Italy on 7-9 May 2025. ASFA-FAO
 \, EURASLIC and GreyNet International have collaborated to bring together 
 this prestigious event.
 This conference represents:
 
 the 21st EURASL
 IC Biennial Conference
 the ASFA-FAO European Regional Retreat
 
 The A
 SFA-EURASLIC-GREYNET joint conference will take place at CNR-Area di Ricer
 ca in Pisa (Italy) on May 7 - 9\, 2025.
 
 &nbsp\;
 
DTSTART:20250507T000000Z
DTEND:20250509T000000Z
DTSTAMP:20250310T180659Z
ORGANIZER;CN=OSTrails Project:MAILTO:elli.p@athenarc.gr
END:VEVENT
END:VCALENDAR