BEGIN:VCALENDAR
VERSION:2.0
PRODID:Events Booking
BEGIN:VEVENT
UID:69e5d3c996d4d
SUMMARY:RDA in Europe Annual Summit
DESCRIPTION:The first RDA in Europe Annual Summit will take place on the 18
 th of November 2025 in Paris. The event is an&nbsp\;RDA Europe&nbsp\;initi
 ative\, co-organised and hosted by RDA France and CNRS\, and will be co-lo
 cated with the Annual RDA France meeting on the 17th of November.&nbsp\;

  For more Information visit&nbsp\;https://www.rd-alliance.org/events/rda-e
 urope-annual-summit/
LOCATION:Paris\, 75004 Ile-de-France\, France
DTSTART:20251118T080000Z
DTEND:20251118T170000Z
DTSTAMP:20251029T113841Z
ORGANIZER;CN=OSTrails Project:MAILTO:elli.p@athenarc.gr
GEO:48.855481;2.350566
X-APPLE-STRUCTURED-LOCATION;VALUE=URI;X-ADDRESS=Paris\, 75004 Ile-de-France
 \, France;X-APPLE-RADIUS=72;X-TITLE=Paris\, France:48.855481;2.350566
END:VEVENT
END:VCALENDAR