BEGIN:VCALENDAR
VERSION:2.0
PRODID:Events Booking
BEGIN:VEVENT
UID:69e5d261d2520
SUMMARY:OSTrails meets SharedRDM
DESCRIPTION:For more information\, visit:&nbsp\;https://forschungsdaten.at/
 en/ostrails-meets-shared-rdm/
LOCATION:8\, Kalchberggasse\, Innere Stadt\, Graz\, Styria\, 8010\, Austria
DTSTART:20250923T000000Z
DTEND:20250923T000000Z
DTSTAMP:20250903T084103Z
ORGANIZER;CN=OSTrails Project:MAILTO:elli.p@athenarc.gr
GEO:47.068017;15.436817
X-APPLE-STRUCTURED-LOCATION;VALUE=URI;X-ADDRESS=8\, Kalchberggasse\, Innere
  Stadt\, Graz\, Styria\, 8010\, Austria;X-APPLE-RADIUS=72;X-TITLE=Graz\, A
 ustria:47.068017;15.436817
END:VEVENT
END:VCALENDAR