BEGIN:VCALENDAR
VERSION:2.0
PRODID:Events Booking
BEGIN:VEVENT
UID:69e89fb3d92b0
SUMMARY:STI 2023
DESCRIPTION:27th INTERNATIONAL CONFERENCE ON SCIENCE\, TECHNOLOGY AND INNOV
 ATION INDICATORS
 The 27th International Conference on Science\, Technolo
 gy and Innovation Indicators\, 2023\, will be held September 27-29\, 2023 
 in Leiden. The conference will be organised by&nbsp\;CWTS&nbsp\;in collabo
 ration with the European Network of Indicator Developers (ENID) and will b
 ring the best of physical and online meetings together at the&nbsp\;Stadsg
 ehoorzaal&nbsp\;in Leiden.
 &nbsp\;
DTSTART:20230927T000000Z
DTEND:20230929T000000Z
DTSTAMP:20230421T153027Z
ORGANIZER;CN=OSTrails Project:MAILTO:elli.p@athenarc.gr
END:VEVENT
END:VCALENDAR