BEGIN:VCALENDAR
VERSION:2.0
PRODID:Events Booking
BEGIN:VEVENT
UID:69e89fbd4a7fa
SUMMARY:Synchronisation Force workshop series - 2024 edition
DESCRIPTION:The third edition of the Synchronisation Force Workshop is taki
 ng place from 3rd September to 7th November 2024.
 &nbsp\;
DTSTART:20240903T000000Z
DTEND:20241107T000000Z
DTSTAMP:20240918T121150Z
ORGANIZER;CN=OSTrails Project:MAILTO:elli.p@athenarc.gr
END:VEVENT
END:VCALENDAR