BEGIN:VCALENDAR
VERSION:2.0
PRODID:Events Booking
BEGIN:VEVENT
UID:69e89ec8756c7
SUMMARY:test
DESCRIPTION:rewre
DTSTART:20230512T000000Z
DTEND:20230512T000000Z
DTSTAMP:20230404T090729Z
ORGANIZER;CN=OSTrails Project:MAILTO:elli.p@athenarc.gr
END:VEVENT
END:VCALENDAR