BEGIN:VCALENDAR
VERSION:2.0
PRODID:Events Booking
BEGIN:VEVENT
UID:69e88bd99f6c8
SUMMARY:EOSC Symposium
DESCRIPTION:The EOSC Symposium 2024 will be held from October 21-23 in Berl
 in. It will feature 26 sessions discussing the EOSC Tripartite Partnership
 \, Federation\, and EU Node\, alongside European Common Data Spaces and AI
  trends. In addition\, the&nbsp\;programme includes six unconference sessi
 ons selected by a popular vote from submissions under the&nbsp\;Call for U
 nconference Sessions.
 OSTrails&nbsp\;will be participating with a poster
 &nbsp\;on Draft Architecture and Pathways&nbsp\;and a joint Unconference s
 ession (workshop: \"EOSC Collaborative Frontiers to Achieve Interoperabili
 ty and Enhance Scholarly Data\") with GraspOS\, SciLake and FAIRCORE4EOSC 
 on Tuesday 22 October\, focusing on the EOSC Interoperability Framework.

  
 Watch the&nbsp\;promo video.
 See the full program for details.
 Reg
 ister for the live stream by October 14th!
 
LOCATION:Karl-Liebknecht-Straße\, Berlin\, 10178\, Germany
DTSTART:20241021T000000Z
DTEND:20241023T000000Z
DTSTAMP:20240416T073935Z
ORGANIZER;CN=OSTrails Project:MAILTO:elli.p@athenarc.gr
GEO:52.525561;13.414651
X-APPLE-STRUCTURED-LOCATION;VALUE=URI;X-ADDRESS=Karl-Liebknecht-Straße\, B
 erlin\, 10178\, Germany;X-APPLE-RADIUS=72;X-TITLE=Berlin\, Germany:52.5255
 61;13.414651
END:VEVENT
END:VCALENDAR