BEGIN:VCALENDAR
VERSION:2.0
PRODID:Events Booking
BEGIN:VEVENT
UID:69e88d5767398
SUMMARY:FAIR Impact National Roadshow
DESCRIPTION:The FAIR National Roadshow series is visiting Greece on the 18t
 h of November 2024!
 Elli Papadopoulou (ARC)\, Deputy Project Coordinator
  of OSTrails\, will discuss recent work on harmonizing FAIR assessment too
 ls and upcoming initiatives within the FAIR Metrics and Digital Objects Ta
 sk Force. She will also\, alongside Zisis Simaioforidis (HEAL-Link)\, intr
 oduce the National Pilot of Greece\, highlighting its goals and progress.
LOCATION:RDA 22nd Plenary Meeting
DTSTART:20241118T093000Z
DTEND:20241118T114500Z
DTSTAMP:20241107T104102Z
ORGANIZER;CN=OSTrails Project:MAILTO:elli.p@athenarc.gr
END:VEVENT
END:VCALENDAR