BEGIN:VCALENDAR
VERSION:2.0
PRODID:Events Booking
BEGIN:VEVENT
UID:69e88a5471cc0
SUMMARY:RDA 23rd Plenary Meeting  at San José\, Costa Rica (Hybrid)
DESCRIPTION:
 OSTrails at the RDA 23rd Plenary Meeting in San José\, Cost
 a Rica (Hybrid).
 The Research Data Alliance’s 23rd Plenary Meeting is 
 taking place in the capital of Costa Rica – San José and online.
 At t
 he RDA 23rd Plenary Meeting\, Elli Papadopoulou\, Tomasz Miksa\, and Marek
  Suchanek—co-chairs of the Active Data Management Plans (maDMPs) and DMP
  Common Standard groups—will present preliminary results on interoperabi
 lity frameworks and pathways. The session will also highlight OSTrails’ 
 efforts in establishing a maDMPs API Working Group to support future colla
 boration. The session offers a valuable opportunity to engage with global 
 stakeholders\, particularly from the USA\, as we continue to drive the ado
 ption of maDMPs as outlined in the Salzburg Manifesto co-authored by our p
 artners.
 
 &nbsp\;
DTSTART:20241112T000000Z
DTEND:20241114T000000Z
DTSTAMP:20240715T101402Z
ORGANIZER;CN=OSTrails Project:MAILTO:elli.p@athenarc.gr
END:VEVENT
END:VCALENDAR