BEGIN:VCALENDAR
VERSION:2.0
PRODID:Events Booking
BEGIN:VEVENT
UID:69e88c7b6f8a7
SUMMARY:Science Summit 2024 Workshop
DESCRIPTION:Transforming Knowledge into Practice: Science\, Technology and 
 Innovation in Support of the UN SDGs
 A network of European organisations
  is coordinating this workshop in New York (USA) on September 26 2024\, as
  part of the&nbsp\;Science Summit 2024 (UNGA79)&nbsp\;activities. This net
 work represents active communities from the fields of biodiversity\, ecolo
 gy\, and engineering domains and aims to strengthen &nbsp\;science\, techn
 ology\, and innovation efforts to achieve the UN Sustainable Development G
 oals (SDGs).
 &nbsp\;
DTSTART:20240926T000000Z
DTEND:20240926T000000Z
DTSTAMP:20240923T135541Z
ORGANIZER;CN=OSTrails Project:MAILTO:elli.p@athenarc.gr
END:VEVENT
END:VCALENDAR