BEGIN:VCALENDAR
VERSION:2.0
PRODID:Events Booking
BEGIN:VEVENT
UID:69e8360d6017e
SUMMARY:EOSC Winter School 2025
DESCRIPTION:The EOSC Winter School 2025\, which will take place 20-23 Janua
 ry 2025 in Seville\, Spain\,is organised by the EOSC Association\, with th
 e support of the&nbsp\;EOSC Focus project&nbsp\;and the&nbsp\;HE EOSC-rela
 ted projects. This year’s event will focus on achieving convergence and 
 supporting the build-up phase of the&nbsp\;EOSC Federation. It will serve 
 as a powerful platform for harmonising efforts and strengthening collabora
 tion between key stakeholders from across the EOSC community.
 Learn more
 :&nbsp\;EOSC Winter School 2025 - EOSC Association
LOCATION:Calle Luis de Morales\, Seville\, 41018 Andalusia\, Spain
DTSTART:20250120T000000Z
DTEND:20250123T000000Z
DTSTAMP:20241230T084607Z
ORGANIZER;CN=OSTrails Project:MAILTO:elli.p@athenarc.gr
GEO:37.385656;-5.972743
X-APPLE-STRUCTURED-LOCATION;VALUE=URI;X-ADDRESS=Calle Luis de Morales\, Sev
 ille\, 41018 Andalusia\, Spain;X-APPLE-RADIUS=72;X-TITLE=Meliá Lebreros:3
 7.385656;-5.972743
END:VEVENT
END:VCALENDAR